BEGIN:VCALENDAR
VERSION:2.0
PRODID:-//wp-events-plugin.com//7.2.3.1//EN
TZID:Europe/Paris
X-WR-TIMEZONE:Europe/Paris
BEGIN:VEVENT
UID:87@plongeesubivry.fr
DTSTART;TZID=Europe/Paris:20260328T000000
DTEND;TZID=Europe/Paris:20260329T000000
DTSTAMP:20260223T101617Z
URL:https://plongeesubivry.fr/events/becon-les-granits_mars_2026/
SUMMARY:Week-end à Bécon les Granits
DESCRIPTION:Introduction\nCette sortie est ouverte aux plongeurs niveau PE-
 20 minimum (non ouvert aux débutants) souhaitant effectuer plusieurs plon
 gées techniques afin de préparer un niveau supérieur ou simplement pour
  se perfectionner.\nAnimateur responsable\nDidier Defay\nDescription\n\n 	
 Dates : 28 et 29 mars 2026\n\n 	Nombre de places : 9\, encadrement compris
 .\n 	Participation aux frais : 200 € par plongeur PSI (extérieur 240 
 €)\, tout compris sauf mélanges.\n 	Date limite d’inscription : 31 ma
 rs (acompte obligatoire 80 €).\n 	Nombre de plongées prévues : 4.\n\n
 Plus de détails\n\n 	2 plongées le samedi et 2 plongées le dimanche.\n 
 	Tout le matériel doit être apporté\, y compris les bouteilles et les c
 eintures de lest (voir plus bas).\n 	Une nuit en pension complète.\n 	Hé
 bergement : chambres de 2 à 5 personnes.\n 	Repas : sur place le midi\,
  au restaurant le samedi soir.\n\nTransport\n\n 	En minibus\, départ de l
 a piscine d’Ivry le samedi à 6 heures 30.\n 	Retour le dimanche vers 20
  heures 30.\n\nMatériel\nVous devez prévoir les équipements obligatoire
 s suivants :\n\n 	Palmes\, masque\, tuba.\n 	Combinaison adaptée à la t
 empérature de l'eau (plutôt froide fin mars)\, cagoule et chaussons.\n 	
 Lampe ou flasheur obligatoire.\n 	Gilet de stabilisation (peut être prêt
 é par le club).\n 	Détendeur avec octopus pour les plongeurs (peut être
  prêté par le club)\, 2 détendeurs complets pour les encadrants.\n 	Bou
 teille (prêtée par le club).\n 	Pour les plongeurs autonomes et les enca
 drants\, ordinateur de plongée et parachute de palier.\n\nSi vous n’ave
 z pas de gilet de stabilisation ou de détendeur personnel\, vous pouvez c
 ontacter Didier Gioli ou Daniel Folley pour en emprunter au club. Un chèq
 ue de caution vous sera demandé (250 € par article emprunté\, chèque 
 encaissé en cas de retour tardif du matériel). Sur place\, location de m
 atériel possible.\nDocuments administratifs\n\n 	Certificat médical (ori
 ginal) de moins d’un an.\n 	Licence (FSGT ou autre) valide.\n 	Carte de 
 niveau.\n 	Livret de formation si concerné.\n\n\n\n\n&nbsp\;
CATEGORIES:Sortie
END:VEVENT
BEGIN:VTIMEZONE
TZID:Europe/Paris
X-LIC-LOCATION:Europe/Paris
BEGIN:STANDARD
DTSTART:20251026T020000
TZOFFSETFROM:+0200
TZOFFSETTO:+0100
TZNAME:CET
END:STANDARD
END:VTIMEZONE
END:VCALENDAR