BEGIN:VCALENDAR
VERSION:2.0
PRODID:-//wp-events-plugin.com//7.2.3.1//EN
TZID:Europe/Paris
X-WR-TIMEZONE:Europe/Paris
BEGIN:VEVENT
UID:17@plongeesubivry.fr
DTSTART;TZID=Europe/Paris:20250116T201500
DTEND;TZID=Europe/Paris:20250116T220000
DTSTAMP:20241204T163428Z
URL:https://plongeesubivry.fr/events/cours-theorique-pe-20-n5/
SUMMARY:Cours théorique PE-20 n°5
DESCRIPTION:Belle 4ème plongée mais je ne comprends pas pourquoi j’ai d
 û m’arrêter et pourquoi je dois remonter aussi lentement ?\n\nCours di
 spensé par Fred
CATEGORIES:Cours théorique,PE-20
LOCATION:Maison du club\, 1 rue Lucien Salva\, Ivry-sur-Seine\, 94200\, Fra
 nce
X-APPLE-STRUCTURED-LOCATION;VALUE=URI;X-ADDRESS=1 rue Lucien Salva\, Ivry-s
 ur-Seine\, 94200\, France;X-APPLE-RADIUS=100;X-TITLE=Maison du club:geo:0,
 0
END:VEVENT
BEGIN:VTIMEZONE
TZID:Europe/Paris
X-LIC-LOCATION:Europe/Paris
BEGIN:STANDARD
DTSTART:20241027T020000
TZOFFSETFROM:+0200
TZOFFSETTO:+0100
TZNAME:CET
END:STANDARD
END:VTIMEZONE
END:VCALENDAR