BEGIN:VCALENDAR
VERSION:2.0
PRODID:-//wp-events-plugin.com//7.2.3.1//EN
TZID:Europe/Paris
X-WR-TIMEZONE:Europe/Paris
BEGIN:VEVENT
UID:88@plongeesubivry.fr
DTSTART;TZID=Europe/Paris;VALUE=DATE:20260703
DTEND;TZID=Europe/Paris;VALUE=DATE:20260707
DTSTAMP:20260419T065240Z
URL:https://plongeesubivry.fr/events/saint-cast-3-6-juillet-2026/
SUMMARY:Saint-Cast-Le-Guildo - du 3 au 6 juillet 2026
DESCRIPTION:\n\n&nbsp\;\n\nEn juillet nous vous proposons une sortie mixte 
 exploration / formation à Saint-Cast-Le-Guildo. Vous pourrez bien sûr ve
 nir plonger pour le plaisir\, mais aussi travailler votre PA-20 (groupe B)
  ou faire vos premières bulles (groupe A). La sortie n'est pas ouverte au
 x jeunes du groupe E. Nombre de places limitées pour les formations.\n\n&
 nbsp\;\nAnimateur responsable\nYvon Benard\nDescription\n\n 	Dates : du ve
 ndredi 3 au lundi 6 juillet 2026.\n 	Nombre de places : 15.\n 	Centre de p
 longée : Plongée Evasion - Saint-Cast-Le-Guildo. https://plongevasion.bz
 h/\n 	Hébergement : Location d'une grande maison à Matignon. Lien vers l
 a location.\n 	Transport : en minibus.\n 	Participation aux frais : 420 
 € (tout compris sauf repas de midi). Acompte de 150 € à la réservati
 on\, solde au 15 juin.\n\nPlus de détails\n\n 	L’organisation du stage 
 comprend le voyage en minibus\, départ le vendredi 3 juillet tôt le mati
 n et retour le lundi 6 juillet dans la soirée.\n 	6 plongées prévues (u
 ne vendredi après-midi\, deux samedi et deux dimanche\, une lundi matin).
 \n 	3 nuits dans une maison à 10 minutes du club de plongée en voiture.\
 n 	Déjeuners libres (non compris dans le forfait).\n 	Dîners au restaura
 nt (compris dans le forfait).\n\nMatériel\nVous devrez prévoir les équi
 pements obligatoires suivants :\n\n 	Palmes\, masque et tuba.\n 	Combinais
 on 5 à 7 mm\, cagoule et chaussons.\n 	Gilet de stabilisation*.\n 	Déten
 deur* avec octopus pour les plongeurs\, 2 détendeurs complets pour les en
 cadrants.\n 	Ordinateur de plongée (sauf débutants).\n 	Parachute de pal
 ier (sauf débutants).\n\n* Si vous n’avez pas de gilet de stabilisation
  ou de détendeur personnel\, vous pourrez contacter Didier Gioli ou Danie
 l Folley pour en emprunter au club \; un chèque de caution vous sera dema
 ndé. Sur place\, location de matériel possible\, à vos frais.\nDocument
 s administratifs\n\n 	Certificat médical (original) de moins d’un an.\n
  	Licence (FSGT ou autre) valide.\n 	Carte de niveau (sauf débutants).\n 
 	Aucune plongée technique ne pourra être effectuée (et encore moins val
 idée) sans présentation du Livret de Certification.\nRetrouvez tous les 
 livrets de certification directement sur le site de la FSGT.\n
CATEGORIES:Sortie
END:VEVENT
BEGIN:VTIMEZONE
TZID:Europe/Paris
X-LIC-LOCATION:Europe/Paris
BEGIN:DAYLIGHT
DTSTART:20260329T030000
TZOFFSETFROM:+0100
TZOFFSETTO:+0200
TZNAME:CEST
END:DAYLIGHT
END:VTIMEZONE
END:VCALENDAR